BEGIN:VCALENDAR
VERSION:2.0
PRODID:-//Queensland Motorcycle Council - ECPv6.15.20//NONSGML v1.0//EN
CALSCALE:GREGORIAN
METHOD:PUBLISH
X-ORIGINAL-URL:https://queenslandmotorcyclecouncil.com.au
X-WR-CALDESC:Events for Queensland Motorcycle Council
REFRESH-INTERVAL;VALUE=DURATION:PT1H
X-Robots-Tag:noindex
X-PUBLISHED-TTL:PT1H
BEGIN:VTIMEZONE
TZID:Australia/Melbourne
BEGIN:STANDARD
TZOFFSETFROM:+1100
TZOFFSETTO:+1000
TZNAME:AEST
DTSTART:20250405T160000
END:STANDARD
BEGIN:DAYLIGHT
TZOFFSETFROM:+1000
TZOFFSETTO:+1100
TZNAME:AEDT
DTSTART:20251004T160000
END:DAYLIGHT
BEGIN:STANDARD
TZOFFSETFROM:+1100
TZOFFSETTO:+1000
TZNAME:AEST
DTSTART:20260404T160000
END:STANDARD
BEGIN:DAYLIGHT
TZOFFSETFROM:+1000
TZOFFSETTO:+1100
TZNAME:AEDT
DTSTART:20261003T160000
END:DAYLIGHT
BEGIN:STANDARD
TZOFFSETFROM:+1100
TZOFFSETTO:+1000
TZNAME:AEST
DTSTART:20270403T160000
END:STANDARD
BEGIN:DAYLIGHT
TZOFFSETFROM:+1000
TZOFFSETTO:+1100
TZNAME:AEDT
DTSTART:20271002T160000
END:DAYLIGHT
END:VTIMEZONE
BEGIN:VTIMEZONE
TZID:UTC
BEGIN:STANDARD
TZOFFSETFROM:+0000
TZOFFSETTO:+0000
TZNAME:UTC
DTSTART:20250101T000000
END:STANDARD
END:VTIMEZONE
BEGIN:VTIMEZONE
TZID:Australia/Brisbane
BEGIN:STANDARD
TZOFFSETFROM:+1000
TZOFFSETTO:+1000
TZNAME:AEST
DTSTART:20250101T000000
END:STANDARD
END:VTIMEZONE
BEGIN:VEVENT
DTSTART;TZID=Australia/Melbourne:20260514T190000
DTEND;TZID=Australia/Melbourne:20260514T210000
DTSTAMP:20260424T083601
CREATED:20240401T022538Z
LAST-MODIFIED:20260131T044417Z
UID:135-1778785200-1778792400@queenslandmotorcyclecouncil.com.au
SUMMARY:Council Meeting
DESCRIPTION:Queensland Motorcycle Council meetings are held on the second Thursday of the month at Mitchelton Library at 7pm. All members or prospective members are welcome We are often hosts to representatives of Government departments or political candidates. We also have guest speakers who share their expertise with us.\nIf you are a non member and would like to attend the meeting “on-line” contact the secretary \, who will provide you with a link.
URL:https://queenslandmotorcyclecouncil.com.au/event/council-meeting-8/
LOCATION:Mitchelton Library\, 37 Heliopolis Parade\, Mitchelton\, QLD\, 4053\, Australia
CATEGORIES:Council Meetings
ORGANIZER;CN="Queensland Motorcycle Council Inc.":MAILTO:voice@queenslandmotocyclecouncil.com.au
END:VEVENT
BEGIN:VEVENT
DTSTART;TZID=Australia/Melbourne:20260611T190000
DTEND;TZID=Australia/Melbourne:20260611T190000
DTSTAMP:20260424T083601
CREATED:20240401T021658Z
LAST-MODIFIED:20260131T044536Z
UID:130-1781204400-1781204400@queenslandmotorcyclecouncil.com.au
SUMMARY:Council Meeting
DESCRIPTION:Queensland Motorcycle Council meetings are held on the second Thursday of the month at Mitchelton Library at 7pm. All members or prospective members are welcome We are often hosts to representatives of Government departments or political candidates. We also have guest speakers who share their expertise with us.\nIf you are a non member and would like to attend the meeting “on-line” contact the secretary \, who will provide you with a link.
URL:https://queenslandmotorcyclecouncil.com.au/event/council-meeting-7/
LOCATION:Mitchelton Library\, 37 Heliopolis Parade\, Mitchelton\, QLD\, 4053\, Australia
CATEGORIES:Council Meetings
ORGANIZER;CN="Queensland Motorcycle Council Inc.":MAILTO:voice@queenslandmotocyclecouncil.com.au
END:VEVENT
BEGIN:VEVENT
DTSTART;TZID=UTC:20260709T190000
DTEND;TZID=UTC:20260709T190000
DTSTAMP:20260424T083601
CREATED:20240331T153116Z
LAST-MODIFIED:20260131T044628Z
UID:96-1783623600-1783623600@queenslandmotorcyclecouncil.com.au
SUMMARY:Council Meeting
DESCRIPTION:Queensland Motorcycle Council meetings are held on the second Thursday of the month at Mitchelton Library at 7pm. All members or prospective members are welcome We are often hosts to representatives of Government departments or political candidates. We also have guest speakers who share their expertise with us.\nIf you are a non member and would like to attend the meeting “on-line” contact the secretary \, who will provide you with a link.
URL:https://queenslandmotorcyclecouncil.com.au/event/council-meeting-4/
LOCATION:Mitchelton Library\, 37 Heliopolis Parade\, Mitchelton\, QLD\, 4053\, Australia
CATEGORIES:Council Meetings
ORGANIZER;CN="Queensland Motorcycle Council Inc.":MAILTO:voice@queenslandmotocyclecouncil.com.au
END:VEVENT
BEGIN:VEVENT
DTSTART;TZID=Australia/Melbourne:20260813T190000
DTEND;TZID=Australia/Melbourne:20260813T190000
DTSTAMP:20260424T083601
CREATED:20240331T161057Z
LAST-MODIFIED:20260131T044703Z
UID:127-1786647600-1786647600@queenslandmotorcyclecouncil.com.au
SUMMARY:Council Meeting
DESCRIPTION:Queensland Motorcycle Council meetings are held on the second Thursday of the month at Mitchelton Library at 7pm. All members or prospective members are welcome We are often hosts to representatives of Government departments or political candidates. We also have guest speakers who share their expertise with us.\nIf you are a non member and would like to attend the meeting “on-line” contact the secretary \, who will provide you with a link.
URL:https://queenslandmotorcyclecouncil.com.au/event/council-meeting-6/
LOCATION:Mitchelton Library\, 37 Heliopolis Parade\, Mitchelton\, QLD\, 4053\, Australia
CATEGORIES:Council Meetings
ORGANIZER;CN="Queensland Motorcycle Council Inc.":MAILTO:voice@queenslandmotocyclecouncil.com.au
END:VEVENT
BEGIN:VEVENT
DTSTART;TZID=Australia/Melbourne:20260910T190000
DTEND;TZID=Australia/Melbourne:20260910T210000
DTSTAMP:20260424T083601
CREATED:20240401T022647Z
LAST-MODIFIED:20260131T045005Z
UID:138-1789066800-1789074000@queenslandmotorcyclecouncil.com.au
SUMMARY:Council Meeting
DESCRIPTION:Queensland Motorcycle Council meetings are held on the second Thursday of the month at Mitchelton Library at 7pm. All members or prospective members are welcome We are often hosts to representatives of Government departments or political candidates. We also have guest speakers who share their expertise with us.\nIf you are a non member and would like to attend the meeting “on-line” contact the secretary \, who will provide you with a link.
URL:https://queenslandmotorcyclecouncil.com.au/event/council-meeting-9/
LOCATION:Mitchelton Library\, 37 Heliopolis Parade\, Mitchelton\, QLD\, 4053\, Australia
CATEGORIES:Council Meetings
ORGANIZER;CN="Queensland Motorcycle Council Inc.":MAILTO:voice@queenslandmotocyclecouncil.com.au
END:VEVENT
BEGIN:VEVENT
DTSTART;TZID=Australia/Brisbane:20261008T190000
DTEND;TZID=Australia/Brisbane:20261008T210000
DTSTAMP:20260424T083601
CREATED:20260131T042403Z
LAST-MODIFIED:20260131T044912Z
UID:1199-1791486000-1791493200@queenslandmotorcyclecouncil.com.au
SUMMARY:Council Meeting
DESCRIPTION:Queensland Motorcycle Council meetings are held on the second Thursday of the month at Mitchelton Library at 7pm. All members or prospective members are welcome We are often hosts to representatives of Government departments or political candidates. We also have guest speakers who share their expertise with us.\nIf you are a non member and would like to attend the meeting “on-line” contact the secretary \, who will provide you with a link.
URL:https://queenslandmotorcyclecouncil.com.au/event/council-meeting-2/
LOCATION:Mitchelton Library\, 37 Heliopolis Parade\, Mitchelton\, QLD\, 4053\, Australia
CATEGORIES:Council Meetings
ORGANIZER;CN="Queensland Motorcycle Council Inc.":MAILTO:voice@queenslandmotocyclecouncil.com.au
END:VEVENT
BEGIN:VEVENT
DTSTART;TZID=Australia/Brisbane:20261112T190000
DTEND;TZID=Australia/Brisbane:20261112T210000
DTSTAMP:20260424T083601
CREATED:20260131T042453Z
LAST-MODIFIED:20260131T045202Z
UID:1201-1794510000-1794517200@queenslandmotorcyclecouncil.com.au
SUMMARY:Council Meeting
DESCRIPTION:Queensland Motorcycle Council meetings are held on the second Thursday of the month at Mitchelton Library at 7pm. All members or prospective members are welcome We are often hosts to representatives of Government departments or political candidates. We also have guest speakers who share their expertise with us.\nIf you are a non member and would like to attend the meeting “on-line” contact the secretary \, who will provide you with a link.
URL:https://queenslandmotorcyclecouncil.com.au/event/council-meeting-3/
LOCATION:Mitchelton Library\, 37 Heliopolis Parade\, Mitchelton\, QLD\, 4053\, Australia
CATEGORIES:Council Meetings
ORGANIZER;CN="Queensland Motorcycle Council Inc.":MAILTO:voice@queenslandmotocyclecouncil.com.au
END:VEVENT
BEGIN:VEVENT
DTSTART;TZID=Australia/Brisbane:20261210T190000
DTEND;TZID=Australia/Brisbane:20261210T210000
DTSTAMP:20260424T083601
CREATED:20260131T042540Z
LAST-MODIFIED:20260131T045307Z
UID:1203-1796929200-1796936400@queenslandmotorcyclecouncil.com.au
SUMMARY:Council Meeting
DESCRIPTION:Queensland Motorcycle Council meetings are held on the second Thursday of the month at Mitchelton Library at 7pm. All members or prospective members are welcome We are often hosts to representatives of Government departments or political candidates. We also have guest speakers who share their expertise with us.\nIf you are a non member and would like to attend the meeting “on-line” contact the secretary \, who will provide you with a link.
URL:https://queenslandmotorcyclecouncil.com.au/event/council-meeting-11/
LOCATION:Mitchelton Library\, 37 Heliopolis Parade\, Mitchelton\, QLD\, 4053\, Australia
CATEGORIES:Council Meetings
ORGANIZER;CN="Queensland Motorcycle Council Inc.":MAILTO:voice@queenslandmotocyclecouncil.com.au
END:VEVENT
END:VCALENDAR